BEGIN:VCALENDAR
VERSION:2.0
PRODID:-//test Feltmakers - ECPv6.15.20//NONSGML v1.0//EN
CALSCALE:GREGORIAN
METHOD:PUBLISH
X-WR-CALNAME:test Feltmakers
X-ORIGINAL-URL:https://test.feltmakers.com
X-WR-CALDESC:Events for test Feltmakers
REFRESH-INTERVAL;VALUE=DURATION:PT1H
X-Robots-Tag:noindex
X-PUBLISHED-TTL:PT1H
BEGIN:VTIMEZONE
TZID:Europe/London
BEGIN:DAYLIGHT
TZOFFSETFROM:+0000
TZOFFSETTO:+0100
TZNAME:BST
DTSTART:20250330T010000
END:DAYLIGHT
BEGIN:STANDARD
TZOFFSETFROM:+0100
TZOFFSETTO:+0000
TZNAME:GMT
DTSTART:20251026T010000
END:STANDARD
BEGIN:DAYLIGHT
TZOFFSETFROM:+0000
TZOFFSETTO:+0100
TZNAME:BST
DTSTART:20260329T010000
END:DAYLIGHT
BEGIN:STANDARD
TZOFFSETFROM:+0100
TZOFFSETTO:+0000
TZNAME:GMT
DTSTART:20261025T010000
END:STANDARD
BEGIN:DAYLIGHT
TZOFFSETFROM:+0000
TZOFFSETTO:+0100
TZNAME:BST
DTSTART:20270328T010000
END:DAYLIGHT
BEGIN:STANDARD
TZOFFSETFROM:+0100
TZOFFSETTO:+0000
TZNAME:GMT
DTSTART:20271031T010000
END:STANDARD
BEGIN:DAYLIGHT
TZOFFSETFROM:+0000
TZOFFSETTO:+0100
TZNAME:BST
DTSTART:20280326T010000
END:DAYLIGHT
BEGIN:STANDARD
TZOFFSETFROM:+0100
TZOFFSETTO:+0000
TZNAME:GMT
DTSTART:20281029T010000
END:STANDARD
END:VTIMEZONE
BEGIN:VEVENT
DTSTART;TZID=Europe/London:20260507T120000
DTEND;TZID=Europe/London:20260507T140000
DTSTAMP:20260422T025514
CREATED:20260202T164300Z
LAST-MODIFIED:20260202T164300Z
UID:10000154-1778155200-1778162400@test.feltmakers.com
SUMMARY:A Treasure Hunt
DESCRIPTION:Look for the locket \nThen look for the cake \nWith a cup of coffee
URL:https://test.feltmakers.com/event/a-treasure-hunt-2/2026-05-07/
LOCATION:Heather’s Place\, 1 Joppa Terrace\, Edinburgh\, Scotland\, ED6 1DF\, United Kingdom
CATEGORIES:In Person
ATTACH;FMTTYPE=image/jpeg:https://test.feltmakers.com/wp-content/uploads/2024/08/Excel-spreadsheet.jpg
END:VEVENT
BEGIN:VEVENT
DTSTART;TZID=Europe/London:20260604T120000
DTEND;TZID=Europe/London:20260604T140000
DTSTAMP:20260422T025514
CREATED:20260202T164300Z
LAST-MODIFIED:20260202T164300Z
UID:10000155-1780574400-1780581600@test.feltmakers.com
SUMMARY:A Treasure Hunt
DESCRIPTION:Look for the locket \nThen look for the cake \nWith a cup of coffee
URL:https://test.feltmakers.com/event/a-treasure-hunt-2/2026-06-04/
LOCATION:Heather’s Place\, 1 Joppa Terrace\, Edinburgh\, Scotland\, ED6 1DF\, United Kingdom
CATEGORIES:In Person
ATTACH;FMTTYPE=image/jpeg:https://test.feltmakers.com/wp-content/uploads/2024/08/Excel-spreadsheet.jpg
END:VEVENT
BEGIN:VEVENT
DTSTART;TZID=Europe/London:20260702T120000
DTEND;TZID=Europe/London:20260702T140000
DTSTAMP:20260422T025514
CREATED:20260202T164300Z
LAST-MODIFIED:20260202T164300Z
UID:10000156-1782993600-1783000800@test.feltmakers.com
SUMMARY:A Treasure Hunt
DESCRIPTION:Look for the locket \nThen look for the cake \nWith a cup of coffee
URL:https://test.feltmakers.com/event/a-treasure-hunt-2/2026-07-02/
LOCATION:Heather’s Place\, 1 Joppa Terrace\, Edinburgh\, Scotland\, ED6 1DF\, United Kingdom
CATEGORIES:In Person
ATTACH;FMTTYPE=image/jpeg:https://test.feltmakers.com/wp-content/uploads/2024/08/Excel-spreadsheet.jpg
END:VEVENT
BEGIN:VEVENT
DTSTART;TZID=Europe/London:20260806T120000
DTEND;TZID=Europe/London:20260806T140000
DTSTAMP:20260422T025514
CREATED:20260202T164300Z
LAST-MODIFIED:20260202T164300Z
UID:10000157-1786017600-1786024800@test.feltmakers.com
SUMMARY:A Treasure Hunt
DESCRIPTION:Look for the locket \nThen look for the cake \nWith a cup of coffee
URL:https://test.feltmakers.com/event/a-treasure-hunt-2/2026-08-06/
LOCATION:Heather’s Place\, 1 Joppa Terrace\, Edinburgh\, Scotland\, ED6 1DF\, United Kingdom
CATEGORIES:In Person
ATTACH;FMTTYPE=image/jpeg:https://test.feltmakers.com/wp-content/uploads/2024/08/Excel-spreadsheet.jpg
END:VEVENT
BEGIN:VEVENT
DTSTART;TZID=Europe/London:20260903T120000
DTEND;TZID=Europe/London:20260903T140000
DTSTAMP:20260422T025514
CREATED:20260202T164300Z
LAST-MODIFIED:20260202T164300Z
UID:10000158-1788436800-1788444000@test.feltmakers.com
SUMMARY:A Treasure Hunt
DESCRIPTION:Look for the locket \nThen look for the cake \nWith a cup of coffee
URL:https://test.feltmakers.com/event/a-treasure-hunt-2/2026-09-03/
LOCATION:Heather’s Place\, 1 Joppa Terrace\, Edinburgh\, Scotland\, ED6 1DF\, United Kingdom
CATEGORIES:In Person
ATTACH;FMTTYPE=image/jpeg:https://test.feltmakers.com/wp-content/uploads/2024/08/Excel-spreadsheet.jpg
END:VEVENT
BEGIN:VEVENT
DTSTART;TZID=Europe/London:20261001T120000
DTEND;TZID=Europe/London:20261001T140000
DTSTAMP:20260422T025514
CREATED:20260202T164300Z
LAST-MODIFIED:20260202T164300Z
UID:10000159-1790856000-1790863200@test.feltmakers.com
SUMMARY:A Treasure Hunt
DESCRIPTION:Look for the locket \nThen look for the cake \nWith a cup of coffee
URL:https://test.feltmakers.com/event/a-treasure-hunt-2/2026-10-01/
LOCATION:Heather’s Place\, 1 Joppa Terrace\, Edinburgh\, Scotland\, ED6 1DF\, United Kingdom
CATEGORIES:In Person
ATTACH;FMTTYPE=image/jpeg:https://test.feltmakers.com/wp-content/uploads/2024/08/Excel-spreadsheet.jpg
END:VEVENT
BEGIN:VEVENT
DTSTART;TZID=Europe/London:20261105T120000
DTEND;TZID=Europe/London:20261105T140000
DTSTAMP:20260422T025514
CREATED:20260202T164300Z
LAST-MODIFIED:20260202T164300Z
UID:10000160-1793880000-1793887200@test.feltmakers.com
SUMMARY:A Treasure Hunt
DESCRIPTION:Look for the locket \nThen look for the cake \nWith a cup of coffee
URL:https://test.feltmakers.com/event/a-treasure-hunt-2/2026-11-05/
LOCATION:Heather’s Place\, 1 Joppa Terrace\, Edinburgh\, Scotland\, ED6 1DF\, United Kingdom
CATEGORIES:In Person
ATTACH;FMTTYPE=image/jpeg:https://test.feltmakers.com/wp-content/uploads/2024/08/Excel-spreadsheet.jpg
END:VEVENT
BEGIN:VEVENT
DTSTART;TZID=Europe/London:20261203T120000
DTEND;TZID=Europe/London:20261203T140000
DTSTAMP:20260422T025514
CREATED:20260202T164300Z
LAST-MODIFIED:20260202T164300Z
UID:10000161-1796299200-1796306400@test.feltmakers.com
SUMMARY:A Treasure Hunt
DESCRIPTION:Look for the locket \nThen look for the cake \nWith a cup of coffee
URL:https://test.feltmakers.com/event/a-treasure-hunt-2/2026-12-03/
LOCATION:Heather’s Place\, 1 Joppa Terrace\, Edinburgh\, Scotland\, ED6 1DF\, United Kingdom
CATEGORIES:In Person
ATTACH;FMTTYPE=image/jpeg:https://test.feltmakers.com/wp-content/uploads/2024/08/Excel-spreadsheet.jpg
END:VEVENT
BEGIN:VEVENT
DTSTART;TZID=Europe/London:20270107T120000
DTEND;TZID=Europe/London:20270107T140000
DTSTAMP:20260422T025514
CREATED:20260202T164300Z
LAST-MODIFIED:20260202T164300Z
UID:10000162-1799323200-1799330400@test.feltmakers.com
SUMMARY:A Treasure Hunt
DESCRIPTION:Look for the locket \nThen look for the cake \nWith a cup of coffee
URL:https://test.feltmakers.com/event/a-treasure-hunt-2/2027-01-07/
LOCATION:Heather’s Place\, 1 Joppa Terrace\, Edinburgh\, Scotland\, ED6 1DF\, United Kingdom
CATEGORIES:In Person
ATTACH;FMTTYPE=image/jpeg:https://test.feltmakers.com/wp-content/uploads/2024/08/Excel-spreadsheet.jpg
END:VEVENT
BEGIN:VEVENT
DTSTART;TZID=Europe/London:20270204T120000
DTEND;TZID=Europe/London:20270204T140000
DTSTAMP:20260422T025514
CREATED:20260202T164300Z
LAST-MODIFIED:20260202T164300Z
UID:10000163-1801742400-1801749600@test.feltmakers.com
SUMMARY:A Treasure Hunt
DESCRIPTION:Look for the locket \nThen look for the cake \nWith a cup of coffee
URL:https://test.feltmakers.com/event/a-treasure-hunt-2/2027-02-04/
LOCATION:Heather’s Place\, 1 Joppa Terrace\, Edinburgh\, Scotland\, ED6 1DF\, United Kingdom
CATEGORIES:In Person
ATTACH;FMTTYPE=image/jpeg:https://test.feltmakers.com/wp-content/uploads/2024/08/Excel-spreadsheet.jpg
END:VEVENT
BEGIN:VEVENT
DTSTART;TZID=Europe/London:20270204T143000
DTEND;TZID=Europe/London:20270204T170000
DTSTAMP:20260422T025514
CREATED:20260105T103134Z
LAST-MODIFIED:20260407T144453Z
UID:10000150-1801751400-1801760400@test.feltmakers.com
SUMMARY:Test image
DESCRIPTION:blah blah blah
URL:https://test.feltmakers.com/event/test-image/
LOCATION:Afternoon
CATEGORIES:In Person
ATTACH;FMTTYPE=image/png:https://test.feltmakers.com/wp-content/uploads/2026/01/transfer-email.png
ORGANIZER;CN="Molly":MAILTO:monday@nepetatraining.co.uk
END:VEVENT
BEGIN:VEVENT
DTSTART;TZID=Europe/London:20270304T120000
DTEND;TZID=Europe/London:20270304T140000
DTSTAMP:20260422T025514
CREATED:20260202T164300Z
LAST-MODIFIED:20260202T164300Z
UID:10000164-1804161600-1804168800@test.feltmakers.com
SUMMARY:A Treasure Hunt
DESCRIPTION:Look for the locket \nThen look for the cake \nWith a cup of coffee
URL:https://test.feltmakers.com/event/a-treasure-hunt-2/2027-03-04/
LOCATION:Heather’s Place\, 1 Joppa Terrace\, Edinburgh\, Scotland\, ED6 1DF\, United Kingdom
CATEGORIES:In Person
ATTACH;FMTTYPE=image/jpeg:https://test.feltmakers.com/wp-content/uploads/2024/08/Excel-spreadsheet.jpg
END:VEVENT
BEGIN:VEVENT
DTSTART;TZID=Europe/London:20270401T120000
DTEND;TZID=Europe/London:20270401T140000
DTSTAMP:20260422T025514
CREATED:20260202T164300Z
LAST-MODIFIED:20260202T164300Z
UID:10000165-1806580800-1806588000@test.feltmakers.com
SUMMARY:A Treasure Hunt
DESCRIPTION:Look for the locket \nThen look for the cake \nWith a cup of coffee
URL:https://test.feltmakers.com/event/a-treasure-hunt-2/2027-04-01/
LOCATION:Heather’s Place\, 1 Joppa Terrace\, Edinburgh\, Scotland\, ED6 1DF\, United Kingdom
CATEGORIES:In Person
ATTACH;FMTTYPE=image/jpeg:https://test.feltmakers.com/wp-content/uploads/2024/08/Excel-spreadsheet.jpg
END:VEVENT
BEGIN:VEVENT
DTSTART;TZID=Europe/London:20270506T120000
DTEND;TZID=Europe/London:20270506T140000
DTSTAMP:20260422T025514
CREATED:20260202T164300Z
LAST-MODIFIED:20260202T164300Z
UID:10000166-1809604800-1809612000@test.feltmakers.com
SUMMARY:A Treasure Hunt
DESCRIPTION:Look for the locket \nThen look for the cake \nWith a cup of coffee
URL:https://test.feltmakers.com/event/a-treasure-hunt-2/2027-05-06/
LOCATION:Heather’s Place\, 1 Joppa Terrace\, Edinburgh\, Scotland\, ED6 1DF\, United Kingdom
CATEGORIES:In Person
ATTACH;FMTTYPE=image/jpeg:https://test.feltmakers.com/wp-content/uploads/2024/08/Excel-spreadsheet.jpg
END:VEVENT
END:VCALENDAR